BEGIN:VCALENDAR
VERSION:2.0
PRODID:-//eventon.com NONSGML v1.0//EN
BEGIN:VEVENT
UID:69e8930b39443
DTSTAMP:20260422T112115
DTSTART:20190822T153000Z
DTEND:20190822T173000Z
LOCATION:Dorf Adelboden Dorfstrasse
SUMMARY:Abendlicher Dorfrundgang
DESCRIPTION: [vc_row][vc_column][vc_column_text]Am Abend wird das geschäftige Treiben abgelöst durch ein ruhigeres Geschehen im Dorf. Eine gute Zeit um in gemütlichem Tempo Adelboden mit uns zu Erkunden. Neben stimmigen Tatsachen über Adelboden thematisieren wir auch: Was passiert nachdem die Nacht hereingebrochen ist? Das Nachtleben in Adelboden einst und heute. Was für Sagen[..]
END:VEVENT
END:VCALENDAR