BEGIN:VCALENDAR
VERSION:2.0
PRODID:-//eventon.com NONSGML v1.0//EN
BEGIN:VEVENT
UID:69e88f799c354
DTSTAMP:20260422T110601
DTSTART:20201020T124500Z
DTEND:20201020T151500Z
LOCATION:Dorf Adelboden Dorfstrasse
SUMMARY:Kulinarischer Dorfrundgang „Spiis u Trank us Adelbodner Hand“
DESCRIPTION: [vc_row][vc_column][vc_column_text]Entdecken Sie die kulinarischen Höhepunkte von Adelboden bequem zu Fuss. Tauchen Sie ein in die Geheimnisse bei der Herstellung der Spezialitäten. Beobachten Sie aus anderem Blickwinkel die Leistungserstellung der Betriebe. Unterwegs erhalten Sie Informationen und stimmige Geschichten über Gewerbe\,  Tourismus und das Leben in Adelboden. Mit anschliessendem Apéro. Inbegriffen: Dorfführung[..]
END:VEVENT
END:VCALENDAR