BEGIN:VCALENDAR
VERSION:2.0
PRODID:-//eventon.com NONSGML v1.0//EN
BEGIN:VEVENT
UID:69e88dad41a88
DTSTAMP:20260422T105821
DTSTART:20220228T124500Z
DTEND:20220228T151500Z
LOCATION:Rösterei Adelboden Landstrasse 45
SUMMARY:Ein altes Brauchtum wird wieder gelebt - Das Kaffee rösten
DESCRIPTION: [vc_row][vc_column][vc_column_text]Tour durch Adelboden mit stimmige Informationen über die Vergangenheit\,  Gegenwart und Zukunft von Adelboden aus der Sicht eines Einheimischen. Die Ess- und Trinkkultur einst und heute. Besichtigung der Rösterei Adelboden mit dem modernen Probat-Röster. Rösten von Rohkaffee wie anno dazumal. Weiterverarbeitung des Röstkaffees in Kaffee wie vor 100 Jahren. Welche[..]
END:VEVENT
END:VCALENDAR