BEGIN:VCALENDAR
VERSION:2.0
PRODID:-//eventon.com NONSGML v1.0//EN
BEGIN:VEVENT
UID:69e89032c6c4f
DTSTAMP:20260422T110906
DTSTART:20260428T160000Z
DTEND:20260428T180000Z
LOCATION:Dorf Adelboden Dorfstrasse
SUMMARY:Abendlicher Dorfrundgang
DESCRIPTION: [vc_row][vc_column][vc_column_text]Am Abend wird das geschäftige Treiben abgelöst durch ein ruhigeres Geschehen im Dorf. Eine gute Zeit um in gemütlichem Tempo Adelboden mit uns zu Erkunden. Neben stimmigen Tatsachen über Adelboden thematisieren wir auch: Was passiert nachdem die Nacht hereingebrochen ist? Das Nachtleben in Adelboden einst und heute. Was für Sagen[..]
END:VEVENT
END:VCALENDAR